BEGIN:VCALENDAR
VERSION:2.0
PRODID:-//Two Way Brewing Company - ECPv6.15.20//NONSGML v1.0//EN
CALSCALE:GREGORIAN
METHOD:PUBLISH
X-ORIGINAL-URL:https://twowaybrewing.com
X-WR-CALDESC:Events for Two Way Brewing Company
REFRESH-INTERVAL;VALUE=DURATION:PT1H
X-Robots-Tag:noindex
X-PUBLISHED-TTL:PT1H
BEGIN:VTIMEZONE
TZID:UTC
BEGIN:STANDARD
TZOFFSETFROM:+0000
TZOFFSETTO:+0000
TZNAME:UTC
DTSTART:20240101T000000
END:STANDARD
END:VTIMEZONE
BEGIN:VEVENT
DTSTART;TZID=UTC:20250213T193000
DTEND;TZID=UTC:20250213T210000
DTSTAMP:20260421T075018
CREATED:20250117T234929Z
LAST-MODIFIED:20250117T234929Z
UID:15730-1739475000-1739480400@twowaybrewing.com
SUMMARY:Trivia Night
DESCRIPTION:Our most popular night of the week! Join us every Thursday for an evening of entertaining and head-scratching trivia. Teams are limited to 6 members\, and each member of the winning team goes home with a 32oz crowler of beer! Trivia is free to play\, and everyone is welcome – no experience necessary! Team check-in is between 7 and 7:25p (we recommend arriving early)\, and questions start no later than 7:30pm!
URL:https://twowaybrewing.com/event/trivia-night-38/
LOCATION:Two Way Brewing\, 18 West Main St.\, Beacon
ATTACH;FMTTYPE=image/png:https://twowaybrewing.com/wp-content/uploads/2024/02/TRIVIA-1-1.png
END:VEVENT
END:VCALENDAR